BEGIN:VCALENDAR
VERSION:2.0
PRODID:-//Dorfgemeinschaft-Sinzenich e.V. - ECPv6.15.20//NONSGML v1.0//EN
CALSCALE:GREGORIAN
METHOD:PUBLISH
X-WR-CALNAME:Dorfgemeinschaft-Sinzenich e.V.
X-ORIGINAL-URL:https://dorfgemeinschaft-sinzenich.de
X-WR-CALDESC:Veranstaltungen für Dorfgemeinschaft-Sinzenich e.V.
REFRESH-INTERVAL;VALUE=DURATION:PT1H
X-Robots-Tag:noindex
X-PUBLISHED-TTL:PT1H
BEGIN:VTIMEZONE
TZID:Europe/Berlin
BEGIN:DAYLIGHT
TZOFFSETFROM:+0100
TZOFFSETTO:+0200
TZNAME:CEST
DTSTART:20240331T010000
END:DAYLIGHT
BEGIN:STANDARD
TZOFFSETFROM:+0200
TZOFFSETTO:+0100
TZNAME:CET
DTSTART:20241027T010000
END:STANDARD
BEGIN:DAYLIGHT
TZOFFSETFROM:+0100
TZOFFSETTO:+0200
TZNAME:CEST
DTSTART:20250330T010000
END:DAYLIGHT
BEGIN:STANDARD
TZOFFSETFROM:+0200
TZOFFSETTO:+0100
TZNAME:CET
DTSTART:20251026T010000
END:STANDARD
BEGIN:DAYLIGHT
TZOFFSETFROM:+0100
TZOFFSETTO:+0200
TZNAME:CEST
DTSTART:20260329T010000
END:DAYLIGHT
BEGIN:STANDARD
TZOFFSETFROM:+0200
TZOFFSETTO:+0100
TZNAME:CET
DTSTART:20261025T010000
END:STANDARD
BEGIN:DAYLIGHT
TZOFFSETFROM:+0100
TZOFFSETTO:+0200
TZNAME:CEST
DTSTART:20270328T010000
END:DAYLIGHT
BEGIN:STANDARD
TZOFFSETFROM:+0200
TZOFFSETTO:+0100
TZNAME:CET
DTSTART:20271031T010000
END:STANDARD
END:VTIMEZONE
BEGIN:VEVENT
DTSTART;TZID=Europe/Berlin:20260406T110000
DTEND;TZID=Europe/Berlin:20260406T120000
DTSTAMP:20260419T200125
CREATED:20260103T065600Z
LAST-MODIFIED:20260103T065600Z
UID:1747-1775473200-1775476800@dorfgemeinschaft-sinzenich.de
SUMMARY:Gottesdienst Ostermontag
DESCRIPTION:
URL:https://dorfgemeinschaft-sinzenich.de/termin/gottesdienst-ostermontag/
END:VEVENT
BEGIN:VEVENT
DTSTART;TZID=Europe/Berlin:20260402T200000
DTEND;TZID=Europe/Berlin:20260402T220000
DTSTAMP:20260419T200125
CREATED:20260103T065454Z
LAST-MODIFIED:20260304T053536Z
UID:1745-1775160000-1775167200@dorfgemeinschaft-sinzenich.de
SUMMARY:Jahreshauptversammlung der Dorfgemeinschaft-Sinzenich e.V.\, Rotbachklause
DESCRIPTION:
URL:https://dorfgemeinschaft-sinzenich.de/termin/jahreshauptversammlung-der-dorfgemeinschaft-sinzenich-e-v-rotbachklause/
END:VEVENT
BEGIN:VEVENT
DTSTART;TZID=Europe/Berlin:20260314T190000
DTEND;TZID=Europe/Berlin:20260314T220000
DTSTAMP:20260419T200125
CREATED:20260103T065338Z
LAST-MODIFIED:20260103T065338Z
UID:1743-1773514800-1773525600@dorfgemeinschaft-sinzenich.de
SUMMARY:Jahreskonzert des Musikvereins mit Jugendorchester in der Schützenhalle Schwerfen
DESCRIPTION:
URL:https://dorfgemeinschaft-sinzenich.de/termin/jahreskonzert-des-musikvereins-mit-jugendorchester-in-der-schuetzenhalle-schwerfen/
END:VEVENT
BEGIN:VEVENT
DTSTART;TZID=Europe/Berlin:20260314T100000
DTEND;TZID=Europe/Berlin:20260314T160000
DTSTAMP:20260419T200125
CREATED:20260103T064911Z
LAST-MODIFIED:20260304T053600Z
UID:1298-1773482400-1773504000@dorfgemeinschaft-sinzenich.de
SUMMARY:Umweltaktion "Saubere Bäche – sauberes Dorf"\, Treffen an der Feuerwehr
DESCRIPTION:
URL:https://dorfgemeinschaft-sinzenich.de/termin/umweltaktion-saubere-baeche-sauberes-dorf-treffen-an-der-feuerwehr/
END:VEVENT
BEGIN:VEVENT
DTSTART;TZID=Europe/Berlin:20260312T190000
DTEND;TZID=Europe/Berlin:20260312T220000
DTSTAMP:20260419T200125
CREATED:20260103T065207Z
LAST-MODIFIED:20260103T065207Z
UID:1741-1773342000-1773352800@dorfgemeinschaft-sinzenich.de
SUMMARY:Treffen der Vorstände und Ansprechpartner von Vereinen u. Institutionen\, Rotbachklause
DESCRIPTION:
URL:https://dorfgemeinschaft-sinzenich.de/termin/treffen-der-vorstaende-und-ansprechpartner-von-vereinen-u-institutionen-rotbachklause/
END:VEVENT
BEGIN:VEVENT
DTSTART;TZID=Europe/Berlin:20260217T170000
DTEND;TZID=Europe/Berlin:20260217T220000
DTSTAMP:20260419T200125
CREATED:20260121T064214Z
LAST-MODIFIED:20260121T093904Z
UID:1804-1771347600-1771365600@dorfgemeinschaft-sinzenich.de
SUMMARY:Ausklang des närrischen Treibens mit „Schohnzeit“ im Eifeler Antikhaus Café
DESCRIPTION:Rockig (80er) und leise kölsche Töne. Anmeldung erwünscht. \nwww.schohnzeit.de
URL:https://dorfgemeinschaft-sinzenich.de/termin/ausklang-des-naerrischen-treibens-mit-schohnzeit-im-eifeler-antikhaus-cafe/
END:VEVENT
BEGIN:VEVENT
DTSTART;TZID=Europe/Berlin:20260215T090000
DTEND;TZID=Europe/Berlin:20260215T170000
DTSTAMP:20260419T200125
CREATED:20260103T064710Z
LAST-MODIFIED:20260103T064710Z
UID:1737-1771146000-1771174800@dorfgemeinschaft-sinzenich.de
SUMMARY:Karnevalsumzug Sinzenich – Aufstellung ab Mühlenhostert
DESCRIPTION:
URL:https://dorfgemeinschaft-sinzenich.de/termin/karnevalsumzug-sinzenich-aufstellung-ab-muehlenhostert/
END:VEVENT
BEGIN:VEVENT
DTSTART;TZID=Europe/Berlin:20260212T100000
DTEND;TZID=Europe/Berlin:20260212T133000
DTSTAMP:20260419T200125
CREATED:20260121T063019Z
LAST-MODIFIED:20260121T093835Z
UID:1802-1770890400-1770903000@dorfgemeinschaft-sinzenich.de
SUMMARY:Weiberfrühstück im Eifeler Antikhaus Café
DESCRIPTION:Anmeldung erwünscht. Mannsleut dürfen auch mit! \nFrühstücksbuffet bis 13 .30 Uhr\,\nSonntag ab 12.00 Uhr geöffnet.\nDer Karnevalszug kommt zweimal vorbei. Für das leibliche Wohl ist gesorgt.\nRosenmontag geschlossen.
URL:https://dorfgemeinschaft-sinzenich.de/termin/weiberfruehstueck-im-eifeler-antikhaus-cafe/
END:VEVENT
BEGIN:VEVENT
DTSTART;TZID=Europe/Berlin:20260111T120000
DTEND;TZID=Europe/Berlin:20260111T170000
DTSTAMP:20260419T200125
CREATED:20260103T064532Z
LAST-MODIFIED:20260103T064532Z
UID:1735-1768132800-1768150800@dorfgemeinschaft-sinzenich.de
SUMMARY:Tag der offenen Krippen - Pfarrkirche St. Kunibert
DESCRIPTION:
URL:https://dorfgemeinschaft-sinzenich.de/termin/tag-der-offenen-krippen-pfarrkirche-st-kunibert/
END:VEVENT
BEGIN:VEVENT
DTSTART;TZID=Europe/Berlin:20251225T110000
DTEND;TZID=Europe/Berlin:20251225T120000
DTSTAMP:20260419T200125
CREATED:20250112T145940Z
LAST-MODIFIED:20250112T145940Z
UID:1539-1766660400-1766664000@dorfgemeinschaft-sinzenich.de
SUMMARY:Gottesdienst
DESCRIPTION:
URL:https://dorfgemeinschaft-sinzenich.de/termin/gottesdienst/
END:VEVENT
BEGIN:VEVENT
DTSTART;TZID=Europe/Berlin:20251225T060000
DTEND;TZID=Europe/Berlin:20251225T110000
DTSTAMP:20260419T200125
CREATED:20250112T145855Z
LAST-MODIFIED:20250112T145855Z
UID:1537-1766642400-1766660400@dorfgemeinschaft-sinzenich.de
SUMMARY:Hirtengang zur Kapelle am Eulenberg mit anschl. Frühstück im Pfarrhaus
DESCRIPTION:
URL:https://dorfgemeinschaft-sinzenich.de/termin/hirtengang-zur-kapelle-am-eulenberg-mit-anschl-fruehstueck-im-pfarrhaus/
END:VEVENT
BEGIN:VEVENT
DTSTART;TZID=Europe/Berlin:20251220T163000
DTEND;TZID=Europe/Berlin:20251220T200000
DTSTAMP:20260419T200125
CREATED:20251016T112329Z
LAST-MODIFIED:20251016T112329Z
UID:1691-1766248200-1766260800@dorfgemeinschaft-sinzenich.de
SUMMARY:Weihnachtliches Musizieren in Sinzenich
DESCRIPTION:
URL:https://dorfgemeinschaft-sinzenich.de/termin/weihnachtliches-musizieren-in-sinzenich-2/
END:VEVENT
BEGIN:VEVENT
DTSTART;TZID=Europe/Berlin:20251213T170000
DTEND;TZID=Europe/Berlin:20251214T200000
DTSTAMP:20260419T200125
CREATED:20251016T124558Z
LAST-MODIFIED:20251016T124621Z
UID:1694-1765645200-1765742400@dorfgemeinschaft-sinzenich.de
SUMMARY:Weihnachtsmarkt am Sportplatz
DESCRIPTION:
URL:https://dorfgemeinschaft-sinzenich.de/termin/weihnachtsmarkt-am-sportplatz/
END:VEVENT
BEGIN:VEVENT
DTSTART;TZID=Europe/Berlin:20251211T190000
DTEND;TZID=Europe/Berlin:20251211T203000
DTSTAMP:20260419T200125
CREATED:20250112T145735Z
LAST-MODIFIED:20250112T145735Z
UID:1533-1765479600-1765485000@dorfgemeinschaft-sinzenich.de
SUMMARY:Treffen der Vereinsvorstände und Ansprechpartner Institutionen Sinzenichs
DESCRIPTION:
URL:https://dorfgemeinschaft-sinzenich.de/termin/treffen-der-vereinsvorstaende-und-ansprechpartner-institutionen-sinzenichs-5/
END:VEVENT
BEGIN:VEVENT
DTSTART;TZID=Europe/Berlin:20251122T180000
DTEND;TZID=Europe/Berlin:20251123T233000
DTSTAMP:20260419T200125
CREATED:20251016T124922Z
LAST-MODIFIED:20251016T124922Z
UID:1699-1763834400-1763940600@dorfgemeinschaft-sinzenich.de
SUMMARY:Karnevalssitzung: 7 x 11 JAHRE KG UELEBERGER SINZENICH 1948 e.V.
DESCRIPTION:
URL:https://dorfgemeinschaft-sinzenich.de/termin/karnevalssitzung-7-x-11-jahre-kg-ueleberger-sinzenich-1948-e-v/
END:VEVENT
BEGIN:VEVENT
DTSTART;TZID=Europe/Berlin:20251116T110000
DTEND;TZID=Europe/Berlin:20251116T123000
DTSTAMP:20260419T200125
CREATED:20250112T145603Z
LAST-MODIFIED:20250112T145603Z
UID:1527-1763290800-1763296200@dorfgemeinschaft-sinzenich.de
SUMMARY:Gottesdienst mit anschließender Gefallenenehrung zum Volkstrauertag am Ehrenmal
DESCRIPTION:
URL:https://dorfgemeinschaft-sinzenich.de/termin/gottesdienst-mit-anschliessender-gefallenenehrung-zum-volkstrauertag-am-ehrenmal/
END:VEVENT
BEGIN:VEVENT
DTSTART;TZID=Europe/Berlin:20251110T171500
DTEND;TZID=Europe/Berlin:20251110T210000
DTSTAMP:20260419T200125
CREATED:20250112T145507Z
LAST-MODIFIED:20250112T145523Z
UID:1524-1762794900-1762808400@dorfgemeinschaft-sinzenich.de
SUMMARY:Martinszug
DESCRIPTION:17:15 Uhr Treffen in der Kirche/Wortgottesdienst\, 17:30 Uhr gemeinsamer Martinszug
URL:https://dorfgemeinschaft-sinzenich.de/termin/martinszug/
END:VEVENT
BEGIN:VEVENT
DTSTART;TZID=Europe/Berlin:20251026T110000
DTEND;TZID=Europe/Berlin:20251026T120000
DTSTAMP:20260419T200125
CREATED:20250112T145337Z
LAST-MODIFIED:20250112T145337Z
UID:1522-1761476400-1761480000@dorfgemeinschaft-sinzenich.de
SUMMARY:Gottesdienst für Allerheiligen mit Gräbersegnung
DESCRIPTION:
URL:https://dorfgemeinschaft-sinzenich.de/termin/gottesdienst-fuer-allerheiligen-mit-graebersegnung/
END:VEVENT
BEGIN:VEVENT
DTSTART;TZID=Europe/Berlin:20251009T190000
DTEND;TZID=Europe/Berlin:20251009T203000
DTSTAMP:20260419T200125
CREATED:20250112T145257Z
LAST-MODIFIED:20250923T091849Z
UID:1520-1760036400-1760041800@dorfgemeinschaft-sinzenich.de
SUMMARY:Treffen der Vereinsvorstände und Ansprechpartner Institutionen Sinzenichs
DESCRIPTION:
URL:https://dorfgemeinschaft-sinzenich.de/termin/treffen-der-vereinsvorstaende-und-ansprechpartner-institutionen-sinzenichs-4/
END:VEVENT
BEGIN:VEVENT
DTSTART;VALUE=DATE:20251004
DTEND;VALUE=DATE:20251006
DTSTAMP:20260419T200125
CREATED:20250112T145219Z
LAST-MODIFIED:20250112T145219Z
UID:1518-1759536000-1759708799@dorfgemeinschaft-sinzenich.de
SUMMARY:Kartoffelfest (Musikverein und freiwillige Feuerwehr)
DESCRIPTION:
URL:https://dorfgemeinschaft-sinzenich.de/termin/kartoffelfest-musikverein-und-freiwillige-feuerwehr/
END:VEVENT
BEGIN:VEVENT
DTSTART;VALUE=DATE:20250907
DTEND;VALUE=DATE:20250910
DTSTAMP:20260419T200125
CREATED:20250112T145153Z
LAST-MODIFIED:20250112T145153Z
UID:1516-1757203200-1757462399@dorfgemeinschaft-sinzenich.de
SUMMARY:Kirmes inkl. Gottesdienst mit anschließender Gräbersegnung
DESCRIPTION:
URL:https://dorfgemeinschaft-sinzenich.de/termin/kirmes-inkl-gottesdienst-mit-anschliessender-graebersegnung/
END:VEVENT
BEGIN:VEVENT
DTSTART;TZID=Europe/Berlin:20250807T190000
DTEND;TZID=Europe/Berlin:20250807T203000
DTSTAMP:20260419T200125
CREATED:20250112T145037Z
LAST-MODIFIED:20250112T145037Z
UID:1514-1754593200-1754598600@dorfgemeinschaft-sinzenich.de
SUMMARY:Treffen der Vereinsvorstände und Ansprechpartner Institutionen Sinzenichs
DESCRIPTION:
URL:https://dorfgemeinschaft-sinzenich.de/termin/treffen-der-vereinsvorstaende-und-ansprechpartner-institutionen-sinzenichs-3/
END:VEVENT
BEGIN:VEVENT
DTSTART;VALUE=DATE:20250627
DTEND;VALUE=DATE:20250630
DTSTAMP:20260419T200125
CREATED:20250112T144951Z
LAST-MODIFIED:20250112T144951Z
UID:1512-1750982400-1751241599@dorfgemeinschaft-sinzenich.de
SUMMARY:Sommerfest der KG Ueleberger
DESCRIPTION:beleb
URL:https://dorfgemeinschaft-sinzenich.de/termin/sommerfest-der-kg-ueleberger-2/
ATTACH;FMTTYPE=image/jpeg:https://dorfgemeinschaft-sinzenich.de/wp-content/uploads/2024/06/KG_Logo_Eule_neu_Logo_Realistic-Logo-Mock-Up.jpg
END:VEVENT
BEGIN:VEVENT
DTSTART;TZID=Europe/Berlin:20250622T110000
DTEND;TZID=Europe/Berlin:20250622T120000
DTSTAMP:20260419T200125
CREATED:20250112T144822Z
LAST-MODIFIED:20250112T144822Z
UID:1510-1750590000-1750593600@dorfgemeinschaft-sinzenich.de
SUMMARY:Gottesdienst mit Sakramentsprozession
DESCRIPTION:
URL:https://dorfgemeinschaft-sinzenich.de/termin/gottesdienst-mit-sakramentsprozession/
END:VEVENT
BEGIN:VEVENT
DTSTART;TZID=Europe/Berlin:20250612T190000
DTEND;TZID=Europe/Berlin:20250612T203000
DTSTAMP:20260419T200125
CREATED:20250112T144747Z
LAST-MODIFIED:20250112T144747Z
UID:1507-1749754800-1749760200@dorfgemeinschaft-sinzenich.de
SUMMARY:Treffen der Vereinsvorstände und Ansprechpartner d. Institutionen Sinzenichs
DESCRIPTION:
URL:https://dorfgemeinschaft-sinzenich.de/termin/treffen-der-vereinsvorstaende-und-ansprechpartner-d-institutionen-sinzenichs/
END:VEVENT
BEGIN:VEVENT
DTSTART;TZID=Europe/Berlin:20250601T110000
DTEND;TZID=Europe/Berlin:20250601T160000
DTSTAMP:20260419T200125
CREATED:20250112T144700Z
LAST-MODIFIED:20250112T144700Z
UID:1505-1748775600-1748793600@dorfgemeinschaft-sinzenich.de
SUMMARY:Dorftrödel in Sinzenich
DESCRIPTION:
URL:https://dorfgemeinschaft-sinzenich.de/termin/dorftroedel-in-sinzenich-3/
ATTACH;FMTTYPE=image/jpeg:https://dorfgemeinschaft-sinzenich.de/wp-content/uploads/2023/04/PHOTO-2022-05-02-21-03-05.jpg
END:VEVENT
BEGIN:VEVENT
DTSTART;TZID=Europe/Berlin:20250512T110000
DTEND;TZID=Europe/Berlin:20250512T120000
DTSTAMP:20260419T200125
CREATED:20250112T144431Z
LAST-MODIFIED:20250112T144431Z
UID:1503-1747047600-1747051200@dorfgemeinschaft-sinzenich.de
SUMMARY:Dankmesse zur Erstkommunion
DESCRIPTION:
URL:https://dorfgemeinschaft-sinzenich.de/termin/dankmesse-zur-erstkommunion/
END:VEVENT
BEGIN:VEVENT
DTSTART;TZID=Europe/Berlin:20250511T110000
DTEND;TZID=Europe/Berlin:20250511T120000
DTSTAMP:20260419T200125
CREATED:20250112T144350Z
LAST-MODIFIED:20250112T144350Z
UID:1501-1746961200-1746964800@dorfgemeinschaft-sinzenich.de
SUMMARY:Gottesdienst – Floriansmesse\, freiwillige Feuerwehr Sinzenich
DESCRIPTION:
URL:https://dorfgemeinschaft-sinzenich.de/termin/gottesdienst-floriansmesse-freiwillige-feuerwehr-sinzenich/
END:VEVENT
BEGIN:VEVENT
DTSTART;TZID=Europe/Berlin:20250510T110000
DTEND;TZID=Europe/Berlin:20250510T170000
DTSTAMP:20260419T200125
CREATED:20250402T092829Z
LAST-MODIFIED:20250402T092829Z
UID:1577-1746874800-1746896400@dorfgemeinschaft-sinzenich.de
SUMMARY:Erlebniswanderung: EifelSchleife "Via Agrippa"
DESCRIPTION:Urheber: Nordeifel Tourismus GmbH\, Nordeifel Tourismus GmbH\, CC BY-SA Namensnennung – Weitergabe unter gleichen Bedingungen(BY-SA) \nGeführte Wanderung mit Story-Telling und dem Besuch der Kirche St. Kunibert. \nWegstrecke: 13\,3 km \nUhrzeit: 11.00 Uhr\nKosten: 5€\nOrt: Zülpich-Sinzenich\, Parkplatz „Auf dem Sand“\, Auf dem Sand\nInfo-Tel.: 02252. 52212\nEmail: stadtfuehrung@stadt-zuelpich.de \nAnmeldung bis zum 07.05.2025 erforderlich!
URL:https://dorfgemeinschaft-sinzenich.de/termin/erlebniswanderung-eifelschleife-via-agrippa/
ATTACH;FMTTYPE=image/jpeg:https://dorfgemeinschaft-sinzenich.de/wp-content/uploads/2025/04/Symbolbild_Erlebniswanderungen.jpg
END:VEVENT
BEGIN:VEVENT
DTSTART;TZID=Europe/Berlin:20250501T143000
DTEND;TZID=Europe/Berlin:20250501T170000
DTSTAMP:20260419T200125
CREATED:20250112T144246Z
LAST-MODIFIED:20250112T144246Z
UID:1499-1746109800-1746118800@dorfgemeinschaft-sinzenich.de
SUMMARY:Prozession zur Marienkapelle auf dem Eulenberg
DESCRIPTION:
URL:https://dorfgemeinschaft-sinzenich.de/termin/prozession-zur-marienkapelle-auf-dem-eulenberg/
END:VEVENT
END:VCALENDAR